BEGIN:VCALENDAR
VERSION:2.0
PRODID:-//French Township - ECPv6.15.15//NONSGML v1.0//EN
CALSCALE:GREGORIAN
METHOD:PUBLISH
X-WR-CALNAME:French Township
X-ORIGINAL-URL:https://www.frenchtwpmn.gov
X-WR-CALDESC:Events for French Township
REFRESH-INTERVAL;VALUE=DURATION:PT1H
X-Robots-Tag:noindex
X-PUBLISHED-TTL:PT1H
BEGIN:VTIMEZONE
TZID:America/Chicago
BEGIN:DAYLIGHT
TZOFFSETFROM:-0600
TZOFFSETTO:-0500
TZNAME:CDT
DTSTART:20250309T080000
END:DAYLIGHT
BEGIN:STANDARD
TZOFFSETFROM:-0500
TZOFFSETTO:-0600
TZNAME:CST
DTSTART:20251102T070000
END:STANDARD
BEGIN:DAYLIGHT
TZOFFSETFROM:-0600
TZOFFSETTO:-0500
TZNAME:CDT
DTSTART:20260308T080000
END:DAYLIGHT
BEGIN:STANDARD
TZOFFSETFROM:-0500
TZOFFSETTO:-0600
TZNAME:CST
DTSTART:20261101T070000
END:STANDARD
BEGIN:DAYLIGHT
TZOFFSETFROM:-0600
TZOFFSETTO:-0500
TZNAME:CDT
DTSTART:20270314T080000
END:DAYLIGHT
BEGIN:STANDARD
TZOFFSETFROM:-0500
TZOFFSETTO:-0600
TZNAME:CST
DTSTART:20271107T070000
END:STANDARD
END:VTIMEZONE
BEGIN:VEVENT
DTSTART;TZID=America/Chicago:20260429T190000
DTEND;TZID=America/Chicago:20260429T200000
DTSTAMP:20260420T082759
CREATED:20260115T170631Z
LAST-MODIFIED:20260406T175255Z
UID:5245-1777489200-1777492800@www.frenchtwpmn.gov
SUMMARY:Fire Department Meeting 4/29/2026
DESCRIPTION:
URL:https://www.frenchtwpmn.gov/event/fire-department-meeting-4-29-2026/
LOCATION:Fire Hall\, Side Lake\, MN
CATEGORIES:Fire Department Meetings
ATTACH;FMTTYPE=image/jpeg:https://www.frenchtwpmn.gov/wp-content/uploads/2015/08/side-lake-fire-hall.jpg
END:VEVENT
BEGIN:VEVENT
DTSTART;TZID=America/Chicago:20260430T130000
DTEND;TZID=America/Chicago:20260430T140000
DTSTAMP:20260420T082759
CREATED:20260415T012808Z
LAST-MODIFIED:20260415T012808Z
UID:5577-1777554000-1777557600@www.frenchtwpmn.gov
SUMMARY:Board of Appeal and Equalization Meeting
DESCRIPTION:Notice is hereby given that the Board of Appeal and Equalization for French Township shall meet on Thursday April 30\, 2026. from 1-2 PM at the Town Hall\, 7548 Hwy 5\, Side Lake\, Minnesota. The purpose of this meeting is to determine whether property in the jurisdiction has been properly valued and classified by the County assessor. \n  \nVisit https://www.frenchtwpmn.gov/notice-to-the-public-re-property-classification/ for more information.
URL:https://www.frenchtwpmn.gov/event/board-of-appeal-and-equalization-meeting/
LOCATION:Side Lake Rec Center\, 7548 Highway 5\, Side Lake\, MN\, 55781
ATTACH;FMTTYPE=image/png:https://www.frenchtwpmn.gov/wp-content/uploads/2026/03/Untitled-design-4.png
END:VEVENT
END:VCALENDAR